BEGIN:VCALENDAR
VERSION:2.0
PRODID:-//MDAA - ECPv4.7.4//NONSGML v1.0//EN
CALSCALE:GREGORIAN
METHOD:PUBLISH
X-WR-CALNAME:MDAA
X-ORIGINAL-URL:http://ugetcare.org.au
X-WR-CALDESC:Events for MDAA
BEGIN:VEVENT
DTSTART;TZID=Australia/Sydney:20181010T190000
DTEND;TZID=Australia/Sydney:20181011T040000
DTSTAMP:20210227T173200
CREATED:20181026T160344Z
LAST-MODIFIED:20181106T182237Z
UID:206-1539198000-1539230400@ugetcare.org.au
SUMMARY:MDAA’s Annual General Meeting
DESCRIPTION:Coming up is the Annual General Meeting on 12 December 2018 to be held at the St Marks Church\nin Mary St Granville.  There will be an election of new members to the Governance Committee so a call out to members who might want to give back to the community by coming on board to the Governance Committee and help give direction to the organisation.  Please renew your membership so you can vote at the AGM. \n
URL:http://ugetcare.org.au/event/event-2/
ATTACH;FMTTYPE=image/jpeg:http://ugetcare.org.au/wp-content/uploads/2018/10/Forum-Flyer-1-646x510.jpg
END:VEVENT
END:VCALENDAR