BEGIN:VCALENDAR
VERSION:2.0
PRODID:-//MDAA - ECPv4.7.4//NONSGML v1.0//EN
CALSCALE:GREGORIAN
METHOD:PUBLISH
X-WR-CALNAME:MDAA
X-ORIGINAL-URL:http://ugetcare.org.au
X-WR-CALDESC:Events for MDAA
BEGIN:VEVENT
DTSTART;TZID=Australia/Sydney:20181123T150000
DTEND;TZID=Australia/Sydney:20181123T150000
DTSTAMP:20210227T173445
CREATED:20181026T160403Z
LAST-MODIFIED:20181106T181958Z
UID:208-1542985200-1542985200@ugetcare.org.au
SUMMARY:Florescence of Diversity Fundraising Dinner
DESCRIPTION:MDAA is holding a fund-raising dinner\, The Florescence of Diversity\, on 23 November 2018 commencing 4pm at Blacktown Workers Club which is also a pre-celebration of the International Day for People with a Disability with our Patron Assistant Professor Dr Munjed Al Muderis\, Human Rights Activist and Leading International Orthopaedic Surgeon as guest speaker. \nplease click on link below: Invitation and Registration \n
URL:http://ugetcare.org.au/event/event-3/
ATTACH;FMTTYPE=image/jpeg:http://ugetcare.org.au/wp-content/uploads/2018/10/dsc20050604_133440_34211.jpg
ORGANIZER;CN="MDAA":MAILTO:shvnkamboj@gmail.com
END:VEVENT
END:VCALENDAR